BEGIN:VCALENDAR
METHOD:PUBLISH
PRODID:-//https://eastgate.org.au//NONSGML jCal Pro 2.2.14.578//
VERSION:2.0
X-WR-CALNAME:JCal Pro Calendar
X-WR-CALDESC:Your online events calendar
X-WR-TIMEZONE:Australia/Perth
BEGIN:VEVENT
UID:-49
DTSTAMP:20190301T144707Z
CONTACT:0429 080 206
DESCRIPTION:Learn new skills and enjoy good company!Â  No cost.\n10 Chidl
 ow St\, Mt Helena
DTEND:20190226T040000Z
DTSTART:20190226T020000Z
LAST-MODIFIED:20190207T102600Z
SUMMARY:Basic sewing made easy
END:VEVENT
BEGIN:VEVENT
UID:-55
DTSTAMP:20190301T144707Z
CONTACT:95721407
DESCRIPTION:Praying for the needs of the church\, community and world
DTEND:20190301T020000Z
DTSTART:20190301T010000Z
LAST-MODIFIED:20180117T010400Z
SUMMARY:Prayer Meeting
END:VEVENT
BEGIN:VEVENT
UID:2b8fda95d5e289eac305b84f0da8e689https://eastgate.org.au/administrator-2
DTSTAMP:20190301T144707Z
CONTACT:95721407
DESCRIPTION:GameChangers is a powerful\, personal development program desig
 ned to help you see yourself as God sees you and experience life from a pl
 ace of fullness and abundance.Â  Cost is $15 for the manual.Â Â \nRu
 n in conjunction with Gidgegannup Aglow.
DTEND:20190301T033000Z
DTSTART:20190301T020000Z
LAST-MODIFIED:20190207T104600Z
SUMMARY:GameChangers
URL:https://www.aglowaus.com.au/gamechangers/
END:VEVENT
BEGIN:VEVENT
UID:-446
DTSTAMP:20190301T144707Z
CONTACT:0422 470 573
DESCRIPTION:Sunday Celebration\n10 Chidlow St\, Mt. Helena\, WA 6082
DTEND:20190303T040000Z
DTSTART:20190303T020000Z
LAST-MODIFIED:20150123T043600Z
SUMMARY:Sunday Celebration
END:VEVENT
END:VCALENDAR
