BEGIN:VCALENDAR
METHOD:PUBLISH
PRODID:-//https://eastgate.org.au//NONSGML jCal Pro 2.2.14.578//
VERSION:2.0
X-WR-CALNAME:JCal Pro Calendar
X-WR-CALDESC:Your online events calendar
X-WR-TIMEZONE:Australia/Perth
BEGIN:VEVENT
UID:-52
DTSTAMP:20190301T144042Z
CONTACT:95721407
DESCRIPTION:Praying for the needs of the church\, community and world
DTEND:20190208T020000Z
DTSTART:20190208T010000Z
LAST-MODIFIED:20180117T010400Z
SUMMARY:Prayer Meeting
END:VEVENT
BEGIN:VEVENT
UID:cf166da8f1533131dfe07d98331e0501https://eastgate.org.au/administrator
DTSTAMP:20190301T144042Z
CONTACT:95721407
DESCRIPTION:Church with a difference\, including activitives\, craft\, sing
 ing and fun for all ages\, followed by lunch.Ã?Â \nHeld the second Sund
 ay of the second month.
DTEND:20190210T033000Z
DTSTART:20190210T020000Z
LAST-MODIFIED:20190207T104100Z
SUMMARY:Messy Church
URL:https://www.messychurch.org.uk/
END:VEVENT
END:VCALENDAR
