BEGIN:VCALENDAR
METHOD:PUBLISH
PRODID:-//https://eastgate.org.au//NONSGML jCal Pro 2.2.14.578//
VERSION:2.0
X-WR-CALNAME:JCal Pro Calendar
X-WR-CALDESC:Your online events calendar
X-WR-TIMEZONE:Australia/Perth
BEGIN:VEVENT
UID:2b8fda95d5e289eac305b84f0da8e689https://eastgate.org.au/administrator-1
DTSTAMP:20190301T144616Z
CONTACT:95721407
DESCRIPTION:GameChangers is a powerful\, personal development program desig
 ned to help you see yourself as God sees you and experience life from a pl
 ace of fullness and abundance.Â  Cost is $15 for the manual.Â Â \nRu
 n in conjunction with Gidgegannup Aglow.
DTEND:20190222T033000Z
DTSTART:20190222T020000Z
LAST-MODIFIED:20190207T104600Z
SUMMARY:GameChangers
URL:https://www.aglowaus.com.au/gamechangers/
END:VEVENT
END:VCALENDAR
