BEGIN:VCALENDAR
METHOD:PUBLISH
PRODID:-//https://eastgate.org.au//NONSGML jCal Pro 2.2.14.578//
VERSION:2.0
X-WR-CALNAME:JCal Pro Calendar
X-WR-CALDESC:Your online events calendar
X-WR-TIMEZONE:Australia/Perth
BEGIN:VEVENT
UID:-49
DTSTAMP:20190301T144736Z
CONTACT:0429 080 206
DESCRIPTION:Learn new skills and enjoy good company!Â  No cost.\n10 Chidl
 ow St\, Mt Helena
DTEND:20190226T040000Z
DTSTART:20190226T020000Z
LAST-MODIFIED:20190207T102600Z
SUMMARY:Basic Sewing Made Easy
END:VEVENT
END:VCALENDAR
