BEGIN:VCALENDAR
METHOD:PUBLISH
PRODID:-//https://eastgate.org.au//NONSGML jCal Pro 2.2.14.578//
VERSION:2.0
X-WR-CALNAME:JCal Pro Calendar
X-WR-CALDESC:Your online events calendar
X-WR-TIMEZONE:Australia/Perth
BEGIN:VEVENT
UID:-445
DTSTAMP:20190301T144642Z
CONTACT:0422 470 573
DESCRIPTION:Sunday Celebration\n10 Chidlow St\, Mt. Helena\, WA 6082
DTEND:20190224T040000Z
DTSTART:20190224T020000Z
LAST-MODIFIED:20150123T043600Z
SUMMARY:Sunday Celebration
END:VEVENT
END:VCALENDAR
