BEGIN:VCALENDAR
METHOD:PUBLISH
PRODID:-//https://eastgate.org.au//NONSGML jCal Pro 2.2.14.578//
VERSION:2.0
X-WR-CALNAME:JCal Pro Calendar
X-WR-CALDESC:Your online events calendar
X-WR-TIMEZONE:Australia/Perth
BEGIN:VEVENT
UID:-51
DTSTAMP:20190301T135900Z
CONTACT:95721407
DESCRIPTION:Praying for the needs of the church\, community and world
DTEND:20190201T020000Z
DTSTART:20190201T010000Z
LAST-MODIFIED:20180117T010400Z
SUMMARY:Prayer Meeting
END:VEVENT
END:VCALENDAR
